BEGIN:VCALENDAR
VERSION:2.0
PRODID:-//Lübbecker Automobilclub e.V. - ECPv6.15.20//NONSGML v1.0//EN
CALSCALE:GREGORIAN
METHOD:PUBLISH
X-WR-CALNAME:Lübbecker Automobilclub e.V.
X-ORIGINAL-URL:https://www.lk-ac.de
X-WR-CALDESC:Veranstaltungen für Lübbecker Automobilclub e.V.
REFRESH-INTERVAL;VALUE=DURATION:PT1H
X-Robots-Tag:noindex
X-PUBLISHED-TTL:PT1H
BEGIN:VTIMEZONE
TZID:UTC
BEGIN:STANDARD
TZOFFSETFROM:+0000
TZOFFSETTO:+0000
TZNAME:UTC
DTSTART:20240101T000000
END:STANDARD
END:VTIMEZONE
BEGIN:VEVENT
DTSTART;TZID=UTC:20251116T160000
DTEND;TZID=UTC:20251116T190000
DTSTAMP:20260425T005502
CREATED:20250126T201537Z
LAST-MODIFIED:20250126T201537Z
UID:7215-1763308800-1763319600@www.lk-ac.de
SUMMARY:LAC Kartmeisterschaft 2025\, Lauf 4\, Knatterdrom Greven
DESCRIPTION:
URL:https://www.lk-ac.de/event/lac-kartmeisterschaft-2025-lauf-4-knatterdrom-greven/
LOCATION:Knatterdrom Greven\, Werner-von-Siemens-Straße 40\, Greven\, 48268\, Deutschland
CATEGORIES:LAC Kartmeisterschaft
ATTACH;FMTTYPE=image/jpeg:https://www.lk-ac.de/wp-content/uploads/2024/01/2022_08_13_LAC_Kartmeisterschaft_Lauf_56_Knatterdrom_Greven.jpg
END:VEVENT
END:VCALENDAR