BEGIN:VCALENDAR
VERSION:2.0
PRODID:-//Lübbecker Automobilclub e.V. - ECPv6.15.20//NONSGML v1.0//EN
CALSCALE:GREGORIAN
METHOD:PUBLISH
X-WR-CALNAME:Lübbecker Automobilclub e.V.
X-ORIGINAL-URL:https://www.lk-ac.de
X-WR-CALDESC:Veranstaltungen für Lübbecker Automobilclub e.V.
REFRESH-INTERVAL;VALUE=DURATION:PT1H
X-Robots-Tag:noindex
X-PUBLISHED-TTL:PT1H
BEGIN:VTIMEZONE
TZID:UTC
BEGIN:STANDARD
TZOFFSETFROM:+0000
TZOFFSETTO:+0000
TZNAME:UTC
DTSTART:20250101T000000
END:STANDARD
END:VTIMEZONE
BEGIN:VEVENT
DTSTART;VALUE=DATE:20260424
DTEND;VALUE=DATE:20260426
DTSTAMP:20260424T132052
CREATED:20260202T230152Z
LAST-MODIFIED:20260202T230152Z
UID:7309-1776988800-1777161599@www.lk-ac.de
SUMMARY:37. ADAC ACTRONICS Rallye Sulingen DRM + ONRK
DESCRIPTION:
URL:https://www.lk-ac.de/event/37-adac-actronics-rallye-sulingen-drm-onrk/
CATEGORIES:Sonstiges
ATTACH;FMTTYPE=image/jpeg:https://www.lk-ac.de/wp-content/uploads/2022/06/2022-sulingen_3086-scaled.jpg
END:VEVENT
END:VCALENDAR