BEGIN:VCALENDAR
VERSION:2.0
PRODID:-//Lübbecker Automobilclub e.V. - ECPv6.15.20//NONSGML v1.0//EN
CALSCALE:GREGORIAN
METHOD:PUBLISH
X-ORIGINAL-URL:https://www.lk-ac.de
X-WR-CALDESC:Veranstaltungen für Lübbecker Automobilclub e.V.
REFRESH-INTERVAL;VALUE=DURATION:PT1H
X-Robots-Tag:noindex
X-PUBLISHED-TTL:PT1H
BEGIN:VTIMEZONE
TZID:UTC
BEGIN:STANDARD
TZOFFSETFROM:+0000
TZOFFSETTO:+0000
TZNAME:UTC
DTSTART:20250101T000000
END:STANDARD
END:VTIMEZONE
BEGIN:VEVENT
DTSTART;VALUE=DATE:20261122
DTEND;VALUE=DATE:20261123
DTSTAMP:20260425T031410
CREATED:20260202T230829Z
LAST-MODIFIED:20260202T230829Z
UID:7318-1795305600-1795391999@www.lk-ac.de
SUMMARY:LAC Kartmeisterschaft 2026\, Lauf 4\, KART 2000 Kirchlengern
DESCRIPTION:
URL:https://www.lk-ac.de/event/lac-kartmeisterschaft-2026-lauf-4-kart-2000-kirchlengern/
LOCATION:KART 2000 Kirchlengern\, Wallücker Bahndamm 13\, Kirchlengern\, 32278\, Deutschland
CATEGORIES:LAC Kartmeisterschaft
ATTACH;FMTTYPE=image/jpeg:https://www.lk-ac.de/wp-content/uploads/2024/01/2023_04_30_LAC_Kartmeisterschaft_Lauf_12_KART_2000_Kirchlengern.jpg
END:VEVENT
END:VCALENDAR