BEGIN:VCALENDAR
VERSION:2.0
PRODID:-//Lübbecker Automobilclub e.V. - ECPv6.15.20//NONSGML v1.0//EN
CALSCALE:GREGORIAN
METHOD:PUBLISH
X-WR-CALNAME:Lübbecker Automobilclub e.V.
X-ORIGINAL-URL:https://www.lk-ac.de
X-WR-CALDESC:Veranstaltungen für Lübbecker Automobilclub e.V.
REFRESH-INTERVAL;VALUE=DURATION:PT1H
X-Robots-Tag:noindex
X-PUBLISHED-TTL:PT1H
BEGIN:VTIMEZONE
TZID:UTC
BEGIN:STANDARD
TZOFFSETFROM:+0000
TZOFFSETTO:+0000
TZNAME:UTC
DTSTART:20250101T000000
END:STANDARD
END:VTIMEZONE
BEGIN:VEVENT
DTSTART;VALUE=DATE:20260424
DTEND;VALUE=DATE:20260426
DTSTAMP:20260424T111648
CREATED:20260202T230152Z
LAST-MODIFIED:20260202T230152Z
UID:7309-1776988800-1777161599@www.lk-ac.de
SUMMARY:37. ADAC ACTRONICS Rallye Sulingen DRM + ONRK
DESCRIPTION:
URL:https://www.lk-ac.de/event/37-adac-actronics-rallye-sulingen-drm-onrk/
CATEGORIES:Sonstiges
ATTACH;FMTTYPE=image/jpeg:https://www.lk-ac.de/wp-content/uploads/2022/06/2022-sulingen_3086-scaled.jpg
END:VEVENT
BEGIN:VEVENT
DTSTART;VALUE=DATE:20260513
DTEND;VALUE=DATE:20260514
DTSTAMP:20260424T111648
CREATED:20260202T231728Z
LAST-MODIFIED:20260202T231728Z
UID:7329-1778630400-1778716799@www.lk-ac.de
SUMMARY:LAC Kartakademie 2026\, Training 2\, KART 2000 Kirchlengern
DESCRIPTION:
URL:https://www.lk-ac.de/event/lac-kartakademie-2026-training-2-kart-2000-kirchlengern/
LOCATION:KART 2000 Kirchlengern\, Wallücker Bahndamm 13\, Kirchlengern\, 32278\, Deutschland
CATEGORIES:LAC Kartakademie
ATTACH;FMTTYPE=image/jpeg:https://www.lk-ac.de/wp-content/uploads/2024/01/2024_01_10_LAC_Kartakademie_Header.jpg
END:VEVENT
BEGIN:VEVENT
DTSTART;VALUE=DATE:20260531
DTEND;VALUE=DATE:20260601
DTSTAMP:20260424T111648
CREATED:20260202T230257Z
LAST-MODIFIED:20260202T230308Z
UID:7312-1780185600-1780271999@www.lk-ac.de
SUMMARY:Int. ADAC Motorradrennen | FIME Europameisterschaft Challenge | DMSC Bielefeld
DESCRIPTION:
URL:https://www.lk-ac.de/event/int-adac-motorradrennen-fime-europameisterschaft-challenge/
LOCATION:Leineweberring\, Eckendorfer Str. 137\, Bielefeld\, 33609\, Deutschland
CATEGORIES:Sonstiges
ATTACH;FMTTYPE=image/jpeg:https://www.lk-ac.de/wp-content/uploads/2024/02/2024_02_18_Grasbahn_Europameisterschaft_Halbfinale_2024_Leineweberring.jpg
END:VEVENT
BEGIN:VEVENT
DTSTART;VALUE=DATE:20260531
DTEND;VALUE=DATE:20260601
DTSTAMP:20260424T111648
CREATED:20260202T230818Z
LAST-MODIFIED:20260202T230818Z
UID:7317-1780185600-1780271999@www.lk-ac.de
SUMMARY:LAC Kartmeisterschaft 2026\, Lauf 2\, KART 2000 Kirchlengern
DESCRIPTION:
URL:https://www.lk-ac.de/event/lac-kartmeisterschaft-2026-lauf-2-kart-2000-kirchlengern/
LOCATION:KART 2000 Kirchlengern\, Wallücker Bahndamm 13\, Kirchlengern\, 32278\, Deutschland
CATEGORIES:LAC Kartmeisterschaft
ATTACH;FMTTYPE=image/jpeg:https://www.lk-ac.de/wp-content/uploads/2024/01/2023_04_30_LAC_Kartmeisterschaft_Lauf_12_KART_2000_Kirchlengern.jpg
END:VEVENT
BEGIN:VEVENT
DTSTART;VALUE=DATE:20260628
DTEND;VALUE=DATE:20260629
DTSTAMP:20260424T111648
CREATED:20260202T225609Z
LAST-MODIFIED:20260202T225609Z
UID:7304-1782604800-1782691199@www.lk-ac.de
SUMMARY:11. & 12. ADAC Clubsport Slalom Lübbecker Land VG
DESCRIPTION:https://www.lk-ac.de/jetzt-anmelden-der-adac-clubsport-slalom-luebbecker-land-vg/
URL:https://www.lk-ac.de/event/11-12-adac-clubsport-slalom-luebbecker-land-vg/
LOCATION:ADAC Clubsport Slalom Lübbecker Land\, Max-Planck-Straße\, Espelkamp\, 32339\, Deutschland
CATEGORIES:Clubevent
ATTACH;FMTTYPE=image/jpeg:https://www.lk-ac.de/wp-content/uploads/2024/05/2024_05_31_LAC_7.8._ADAC_Clubsport_Slalom_Luebbecker_Land.jpg
END:VEVENT
BEGIN:VEVENT
DTSTART;VALUE=DATE:20260708
DTEND;VALUE=DATE:20260709
DTSTAMP:20260424T111648
CREATED:20260202T231753Z
LAST-MODIFIED:20260202T231753Z
UID:7331-1783468800-1783555199@www.lk-ac.de
SUMMARY:LAC Kartakademie 2026\, Training 3\, KART 2000 Kirchlengern
DESCRIPTION:
URL:https://www.lk-ac.de/event/lac-kartakademie-2026-training-3-kart-2000-kirchlengern/
LOCATION:KART 2000 Kirchlengern\, Wallücker Bahndamm 13\, Kirchlengern\, 32278\, Deutschland
CATEGORIES:LAC Kartakademie
ATTACH;FMTTYPE=image/jpeg:https://www.lk-ac.de/wp-content/uploads/2024/01/2024_01_10_LAC_Kartakademie_Header.jpg
END:VEVENT
BEGIN:VEVENT
DTSTART;VALUE=DATE:20260909
DTEND;VALUE=DATE:20260910
DTSTAMP:20260424T111648
CREATED:20260202T231816Z
LAST-MODIFIED:20260202T231816Z
UID:7330-1788912000-1788998399@www.lk-ac.de
SUMMARY:LAC Kartakademie 2026\, Training 4\, KART 2000 Kirchlengern
DESCRIPTION:
URL:https://www.lk-ac.de/event/lac-kartakademie-2026-training-4-kart-2000-kirchlengern/
LOCATION:KART 2000 Kirchlengern\, Wallücker Bahndamm 13\, Kirchlengern\, 32278\, Deutschland
CATEGORIES:LAC Kartakademie
ATTACH;FMTTYPE=image/jpeg:https://www.lk-ac.de/wp-content/uploads/2024/01/2024_01_10_LAC_Kartakademie_Header.jpg
END:VEVENT
BEGIN:VEVENT
DTSTART;VALUE=DATE:20260920
DTEND;VALUE=DATE:20260921
DTSTAMP:20260424T111648
CREATED:20260202T230823Z
LAST-MODIFIED:20260202T230823Z
UID:7319-1789862400-1789948799@www.lk-ac.de
SUMMARY:LAC Kartmeisterschaft 2026\, Lauf 3\, Kartbahn Emsbüren
DESCRIPTION:
URL:https://www.lk-ac.de/event/lac-kartmeisterschaft-2026-lauf-3-kartbahn-emsbueren/
CATEGORIES:LAC Kartmeisterschaft
ATTACH;FMTTYPE=image/jpeg:https://www.lk-ac.de/wp-content/uploads/2019/12/Winterkart_2017-3.jpg
END:VEVENT
BEGIN:VEVENT
DTSTART;VALUE=DATE:20260925
DTEND;VALUE=DATE:20260927
DTSTAMP:20260424T111648
CREATED:20260202T230029Z
LAST-MODIFIED:20260202T230029Z
UID:7307-1790294400-1790467199@www.lk-ac.de
SUMMARY:55. ADAC Rallye Stemweder Berg DRM und Opel Junior Cup
DESCRIPTION:
URL:https://www.lk-ac.de/event/55-adac-rallye-stemweder-berg-drm-und-opel-junior-cup/
LOCATION:ADAC Rallye Stemweder Berg\, Paul-Gauselmann-Straße\, Lübbecke\, 32312\, Deutschland
CATEGORIES:Sonstiges
ATTACH;FMTTYPE=image/jpeg:https://www.lk-ac.de/wp-content/uploads/2024/01/2023_09_29_ADAC_Rallye_Stemweder_Berg_Leon_Hasenkamp.jpg
END:VEVENT
BEGIN:VEVENT
DTSTART;VALUE=DATE:20261122
DTEND;VALUE=DATE:20261123
DTSTAMP:20260424T111648
CREATED:20260202T230829Z
LAST-MODIFIED:20260202T230829Z
UID:7318-1795305600-1795391999@www.lk-ac.de
SUMMARY:LAC Kartmeisterschaft 2026\, Lauf 4\, KART 2000 Kirchlengern
DESCRIPTION:
URL:https://www.lk-ac.de/event/lac-kartmeisterschaft-2026-lauf-4-kart-2000-kirchlengern/
LOCATION:KART 2000 Kirchlengern\, Wallücker Bahndamm 13\, Kirchlengern\, 32278\, Deutschland
CATEGORIES:LAC Kartmeisterschaft
ATTACH;FMTTYPE=image/jpeg:https://www.lk-ac.de/wp-content/uploads/2024/01/2023_04_30_LAC_Kartmeisterschaft_Lauf_12_KART_2000_Kirchlengern.jpg
END:VEVENT
END:VCALENDAR