BEGIN:VCALENDAR
VERSION:2.0
PRODID:-//Lübbecker Automobilclub e.V. - ECPv6.15.20//NONSGML v1.0//EN
CALSCALE:GREGORIAN
METHOD:PUBLISH
X-WR-CALNAME:Lübbecker Automobilclub e.V.
X-ORIGINAL-URL:https://www.lk-ac.de
X-WR-CALDESC:Veranstaltungen für Lübbecker Automobilclub e.V.
REFRESH-INTERVAL;VALUE=DURATION:PT1H
X-Robots-Tag:noindex
X-PUBLISHED-TTL:PT1H
BEGIN:VTIMEZONE
TZID:UTC
BEGIN:STANDARD
TZOFFSETFROM:+0000
TZOFFSETTO:+0000
TZNAME:UTC
DTSTART:20240101T000000
END:STANDARD
END:VTIMEZONE
BEGIN:VEVENT
DTSTART;TZID=UTC:20250207T190000
DTEND;TZID=UTC:20250207T230000
DTSTAMP:20260425T175522
CREATED:20250126T200444Z
LAST-MODIFIED:20250126T200444Z
UID:7203-1738954800-1738969200@www.lk-ac.de
SUMMARY:LAC Jahreshauptversammlung 2024
DESCRIPTION:
URL:https://www.lk-ac.de/event/lac-jahreshauptversammlung-2024/
LOCATION:Hotel Restaurant Borchard\, Langekamp 26\, Lübbecke\, 32312\, Deutschland
CATEGORIES:Clubevent
ATTACH;FMTTYPE=image/jpeg:https://www.lk-ac.de/wp-content/uploads/2024/01/2024_02_02_LAC_Jahreshauptversammlung_2024.jpg
END:VEVENT
BEGIN:VEVENT
DTSTART;TZID=UTC:20250226T180000
DTEND;TZID=UTC:20250226T200000
DTSTAMP:20260425T175522
CREATED:20250126T202941Z
LAST-MODIFIED:20250126T203041Z
UID:7227-1740592800-1740600000@www.lk-ac.de
SUMMARY:LAC Kartakademie 2025\, Training 1\, Indoor Kartbahn Werther
DESCRIPTION:
URL:https://www.lk-ac.de/event/lac-kartakademie-2025-training-1-indoor-kartbahn-werther/
LOCATION:Indoor Kartbahn Werther\, Engerstraße 55\, Werther\, 33824\, Deutschland
CATEGORIES:LAC Kartakademie
ATTACH;FMTTYPE=image/jpeg:https://www.lk-ac.de/wp-content/uploads/2024/01/2024_01_10_Kartbahn_Werther.jpg
END:VEVENT
END:VCALENDAR