BEGIN:VCALENDAR
VERSION:2.0
PRODID:-//Lübbecker Automobilclub e.V. - ECPv6.15.20//NONSGML v1.0//EN
CALSCALE:GREGORIAN
METHOD:PUBLISH
X-WR-CALNAME:Lübbecker Automobilclub e.V.
X-ORIGINAL-URL:https://www.lk-ac.de
X-WR-CALDESC:Veranstaltungen für Lübbecker Automobilclub e.V.
REFRESH-INTERVAL;VALUE=DURATION:PT1H
X-Robots-Tag:noindex
X-PUBLISHED-TTL:PT1H
BEGIN:VTIMEZONE
TZID:UTC
BEGIN:STANDARD
TZOFFSETFROM:+0000
TZOFFSETTO:+0000
TZNAME:UTC
DTSTART:20240101T000000
END:STANDARD
END:VTIMEZONE
BEGIN:VEVENT
DTSTART;VALUE=DATE:20250308
DTEND;VALUE=DATE:20250310
DTSTAMP:20260425T161433
CREATED:20250126T202637Z
LAST-MODIFIED:20250126T202637Z
UID:7225-1741392000-1741564799@www.lk-ac.de
SUMMARY:DMSB Sportwarte Schulungen
DESCRIPTION:Hier geht es zur Anmeldung.
URL:https://www.lk-ac.de/event/dmsb-sportwarte-schulungen/
LOCATION:Delme Werkstätten Sulingen\, Hasseler Weg 20\, Sulingen\, Niedersachsen\, 27232\, Germany
CATEGORIES:Sonstiges
ATTACH;FMTTYPE=image/jpeg:https://www.lk-ac.de/wp-content/uploads/2024/01/2024_01_10_LAC_Vorstand_Header.jpg
END:VEVENT
BEGIN:VEVENT
DTSTART;TZID=UTC:20250323T100000
DTEND;TZID=UTC:20250323T133000
DTSTAMP:20260425T161433
CREATED:20250126T200744Z
LAST-MODIFIED:20250126T200744Z
UID:7205-1742724000-1742736600@www.lk-ac.de
SUMMARY:LAC Kartmeisterschaft 2025\, Lauf 1\, Indoor Kartbahn Werther
DESCRIPTION:
URL:https://www.lk-ac.de/event/lac-kartmeisterschaft-2025-lauf-1-indoor-kartbahn-werther/
LOCATION:Indoor Kartbahn Werther\, Engerstraße 55\, Werther\, 33824\, Deutschland
CATEGORIES:LAC Kartmeisterschaft
ATTACH;FMTTYPE=image/jpeg:https://www.lk-ac.de/wp-content/uploads/2024/01/2024_01_10_Kartbahn_Werther.jpg
END:VEVENT
END:VCALENDAR