BEGIN:VCALENDAR
VERSION:2.0
PRODID:-//Lübbecker Automobilclub e.V. - ECPv6.15.20//NONSGML v1.0//EN
CALSCALE:GREGORIAN
METHOD:PUBLISH
X-WR-CALNAME:Lübbecker Automobilclub e.V.
X-ORIGINAL-URL:https://www.lk-ac.de
X-WR-CALDESC:Veranstaltungen für Lübbecker Automobilclub e.V.
REFRESH-INTERVAL;VALUE=DURATION:PT1H
X-Robots-Tag:noindex
X-PUBLISHED-TTL:PT1H
BEGIN:VTIMEZONE
TZID:UTC
BEGIN:STANDARD
TZOFFSETFROM:+0000
TZOFFSETTO:+0000
TZNAME:UTC
DTSTART:20240101T000000
END:STANDARD
END:VTIMEZONE
BEGIN:VEVENT
DTSTART;VALUE=DATE:20250510
DTEND;VALUE=DATE:20250511
DTSTAMP:20260425T124942
CREATED:20250126T195853Z
LAST-MODIFIED:20250126T200112Z
UID:7199-1746835200-1746921599@www.lk-ac.de
SUMMARY:7. Touristische ADAC Westfalen-Lippe-Ausfahrt
DESCRIPTION:
URL:https://www.lk-ac.de/event/7-touristische-adac-westfalen-lippe-ausfahrt/
CATEGORIES:Sonstiges
END:VEVENT
BEGIN:VEVENT
DTSTART;TZID=UTC:20250525T110000
DTEND;TZID=UTC:20250525T140000
DTSTAMP:20260425T124942
CREATED:20250126T200913Z
LAST-MODIFIED:20250126T200913Z
UID:7207-1748170800-1748181600@www.lk-ac.de
SUMMARY:LAC Kartmeisterschaft 2025\, Lauf 2\, KART 2000 Kirchlengern
DESCRIPTION:
URL:https://www.lk-ac.de/event/lac-kartmeisterschaft-2025-lauf-2-kart-2000-kirchlengern/
LOCATION:KART 2000 Kirchlengern\, Wallücker Bahndamm 13\, Kirchlengern\, 32278\, Deutschland
CATEGORIES:LAC Kartmeisterschaft
ATTACH;FMTTYPE=image/jpeg:https://www.lk-ac.de/wp-content/uploads/2024/01/2023_04_30_LAC_Kartmeisterschaft_Lauf_12_KART_2000_Kirchlengern.jpg
END:VEVENT
END:VCALENDAR