BEGIN:VCALENDAR
VERSION:2.0
PRODID:-//Lübbecker Automobilclub e.V. - ECPv6.15.20//NONSGML v1.0//EN
CALSCALE:GREGORIAN
METHOD:PUBLISH
X-WR-CALNAME:Lübbecker Automobilclub e.V.
X-ORIGINAL-URL:https://www.lk-ac.de
X-WR-CALDESC:Veranstaltungen für Lübbecker Automobilclub e.V.
REFRESH-INTERVAL;VALUE=DURATION:PT1H
X-Robots-Tag:noindex
X-PUBLISHED-TTL:PT1H
BEGIN:VTIMEZONE
TZID:UTC
BEGIN:STANDARD
TZOFFSETFROM:+0000
TZOFFSETTO:+0000
TZNAME:UTC
DTSTART:20240101T000000
END:STANDARD
END:VTIMEZONE
BEGIN:VEVENT
DTSTART;VALUE=DATE:20250601
DTEND;VALUE=DATE:20250602
DTSTAMP:20260425T102939
CREATED:20250126T201846Z
LAST-MODIFIED:20250126T201846Z
UID:7217-1748736000-1748822399@www.lk-ac.de
SUMMARY:Int. ADAC Motorradrennen Leineweberring Bielefeld
DESCRIPTION:Hier geht es zum Ticketverkauf.
URL:https://www.lk-ac.de/event/int-adac-motorradrennen-leineweberring-bielefeld/
LOCATION:Leineweberring\, Eckendorfer Str. 137\, Bielefeld\, 33609\, Deutschland
CATEGORIES:Sonstiges
ATTACH;FMTTYPE=image/jpeg:https://www.lk-ac.de/wp-content/uploads/2024/02/2024_02_18_Grasbahn_Europameisterschaft_Halbfinale_2024_Leineweberring.jpg
END:VEVENT
BEGIN:VEVENT
DTSTART;VALUE=DATE:20250629
DTEND;VALUE=DATE:20250630
DTSTAMP:20260425T102939
CREATED:20250126T195646Z
LAST-MODIFIED:20250526T180133Z
UID:7196-1751155200-1751241599@www.lk-ac.de
SUMMARY:ADAC Clubsport Slalom Lübbecker Land VG 2025
DESCRIPTION:https://www.lk-ac.de/jetzt-anmelden-der-adac-clubsport-slalom-luebbecker-land-vg/
URL:https://www.lk-ac.de/event/adac-clubsport-slalom-luebbecker-land-vg-2025/
LOCATION:ADAC Clubsport Slalom Lübbecker Land\, Max-Planck-Straße\, Espelkamp\, 32339\, Deutschland
CATEGORIES:Clubevent
ATTACH;FMTTYPE=image/jpeg:https://www.lk-ac.de/wp-content/uploads/2024/01/2023_05_14_LAC_5.6._ADAC_Clubsport_Slalom_Luebbecker_Land_Dennis_Saemrau.jpg
END:VEVENT
END:VCALENDAR