BEGIN:VCALENDAR
VERSION:2.0
PRODID:-//Lübbecker Automobilclub e.V. - ECPv6.15.20//NONSGML v1.0//EN
CALSCALE:GREGORIAN
METHOD:PUBLISH
X-WR-CALNAME:Lübbecker Automobilclub e.V.
X-ORIGINAL-URL:https://www.lk-ac.de
X-WR-CALDESC:Veranstaltungen für Lübbecker Automobilclub e.V.
REFRESH-INTERVAL;VALUE=DURATION:PT1H
X-Robots-Tag:noindex
X-PUBLISHED-TTL:PT1H
BEGIN:VTIMEZONE
TZID:UTC
BEGIN:STANDARD
TZOFFSETFROM:+0000
TZOFFSETTO:+0000
TZNAME:UTC
DTSTART:20250101T000000
END:STANDARD
END:VTIMEZONE
BEGIN:VEVENT
DTSTART;VALUE=DATE:20260628
DTEND;VALUE=DATE:20260629
DTSTAMP:20260424T163905
CREATED:20260202T225609Z
LAST-MODIFIED:20260202T225609Z
UID:7304-1782604800-1782691199@www.lk-ac.de
SUMMARY:11. & 12. ADAC Clubsport Slalom Lübbecker Land VG
DESCRIPTION:https://www.lk-ac.de/jetzt-anmelden-der-adac-clubsport-slalom-luebbecker-land-vg/
URL:https://www.lk-ac.de/event/11-12-adac-clubsport-slalom-luebbecker-land-vg/
LOCATION:ADAC Clubsport Slalom Lübbecker Land\, Max-Planck-Straße\, Espelkamp\, 32339\, Deutschland
CATEGORIES:Clubevent
ATTACH;FMTTYPE=image/jpeg:https://www.lk-ac.de/wp-content/uploads/2024/05/2024_05_31_LAC_7.8._ADAC_Clubsport_Slalom_Luebbecker_Land.jpg
END:VEVENT
END:VCALENDAR